BEGIN:VCALENDAR
VERSION:2.0
PRODID:-//Mamma Academy - ECPv6.3.3//NONSGML v1.0//EN
CALSCALE:GREGORIAN
METHOD:PUBLISH
X-WR-CALNAME:Mamma Academy
X-ORIGINAL-URL:https://mammaacademy.com
X-WR-CALDESC:Mamma Academy için etkinlikler
REFRESH-INTERVAL;VALUE=DURATION:PT1H
X-Robots-Tag:noindex
X-PUBLISHED-TTL:PT1H
BEGIN:VTIMEZONE
TZID:UTC
BEGIN:STANDARD
TZOFFSETFROM:+0000
TZOFFSETTO:+0000
TZNAME:UTC
DTSTART:20240101T000000
END:STANDARD
END:VTIMEZONE
BEGIN:VEVENT
DTSTART;TZID=UTC:20240326T080000
DTEND;TZID=UTC:20240326T170000
DTSTAMP:20260422T124426
CREATED:20240220T050816Z
LAST-MODIFIED:20240220T090145Z
UID:4769-1711440000-1711472400@mammaacademy.com
SUMMARY:Hamileler için Hamak Pilates Eğitimi
DESCRIPTION:Hamileler için Hamak Pilates Eğitimi hamak pilates ile sallanarak sağlıklı ol
URL:https://mammaacademy.com/event/hamileler-icin-hamak-pilates-egitimi/
LOCATION:Feriye Palace\, Yıldız\, Çırağan Cd. No:44\,\, Istanbul\, İstanbul\, 34347\, Turkey
CATEGORIES:Event group,Workshops
END:VEVENT
END:VCALENDAR