BEGIN:VCALENDAR
VERSION:2.0
PRODID:-//Mamma Academy - ECPv6.3.3//NONSGML v1.0//EN
CALSCALE:GREGORIAN
METHOD:PUBLISH
X-WR-CALNAME:Mamma Academy
X-ORIGINAL-URL:https://mammaacademy.com
X-WR-CALDESC:Mamma Academy için etkinlikler
REFRESH-INTERVAL;VALUE=DURATION:PT1H
X-Robots-Tag:noindex
X-PUBLISHED-TTL:PT1H
BEGIN:VTIMEZONE
TZID:UTC
BEGIN:STANDARD
TZOFFSETFROM:+0000
TZOFFSETTO:+0000
TZNAME:UTC
DTSTART:20240101T000000
END:STANDARD
END:VTIMEZONE
BEGIN:VEVENT
DTSTART;TZID=UTC:20240319T100000
DTEND;TZID=UTC:20240319T130000
DTSTAMP:20260422T125109
CREATED:20240220T050355Z
LAST-MODIFIED:20240220T090211Z
UID:4765-1710842400-1710853200@mammaacademy.com
SUMMARY:Bebek Masajı Eğitimi
DESCRIPTION:Bebek Masajı Eğitimi yapmak ve yaptırmak hakkında her şey
URL:https://mammaacademy.com/event/bebek-masaji-egitimi/
LOCATION:İstanbul
CATEGORIES:Event group,Workshops
END:VEVENT
END:VCALENDAR