BEGIN:VCALENDAR
VERSION:2.0
PRODID:-//Mamma Academy - ECPv6.3.3//NONSGML v1.0//EN
CALSCALE:GREGORIAN
METHOD:PUBLISH
X-WR-CALNAME:Mamma Academy
X-ORIGINAL-URL:https://mammaacademy.com
X-WR-CALDESC:Mamma Academy için etkinlikler
REFRESH-INTERVAL;VALUE=DURATION:PT1H
X-Robots-Tag:noindex
X-PUBLISHED-TTL:PT1H
BEGIN:VTIMEZONE
TZID:UTC
BEGIN:STANDARD
TZOFFSETFROM:+0000
TZOFFSETTO:+0000
TZNAME:UTC
DTSTART:20240101T000000
END:STANDARD
END:VTIMEZONE
BEGIN:VEVENT
DTSTART;TZID=UTC:20240329T080000
DTEND;TZID=UTC:20240329T170000
DTSTAMP:20260423T133716
CREATED:20240220T050712Z
LAST-MODIFIED:20240220T090152Z
UID:4767-1711699200-1711731600@mammaacademy.com
SUMMARY:Anne ve Babalar için Doğum Eğitimi
DESCRIPTION:Anne ve Babalar için Doğum Eğitimi veriyoruz her şeyi öğretiyoruz
URL:https://mammaacademy.com/event/anne-ve-babalar-icin-dogum-egitimi/
LOCATION:İstanbul
CATEGORIES:Event group,Workshops
END:VEVENT
END:VCALENDAR