BEGIN:VCALENDAR
VERSION:2.0
PRODID:-//Mamma Academy - ECPv6.3.3//NONSGML v1.0//EN
CALSCALE:GREGORIAN
METHOD:PUBLISH
X-ORIGINAL-URL:https://mammaacademy.com
X-WR-CALDESC:Mamma Academy için etkinlikler
REFRESH-INTERVAL;VALUE=DURATION:PT1H
X-Robots-Tag:noindex
X-PUBLISHED-TTL:PT1H
BEGIN:VTIMEZONE
TZID:Europe/Istanbul
BEGIN:STANDARD
TZOFFSETFROM:+0300
TZOFFSETTO:+0300
TZNAME:+03
DTSTART:20240101T000000
END:STANDARD
END:VTIMEZONE
BEGIN:VEVENT
DTSTART;TZID=Europe/Istanbul:20240314T080000
DTEND;TZID=Europe/Istanbul:20240314T170000
DTSTAMP:20260423T134009
CREATED:20240220T085448Z
LAST-MODIFIED:20240220T090227Z
UID:4774-1710403200-1710435600@mammaacademy.com
SUMMARY:Doğurma Eğitimi
DESCRIPTION:Doğurma Eğitimi
URL:https://mammaacademy.com/event/dogurma-egitimi/
LOCATION:Feriye Palace\, Yıldız\, Çırağan Cd. No:44\,\, Istanbul\, İstanbul\, 34347\, Turkey
CATEGORIES:Event group,Workshops
END:VEVENT
END:VCALENDAR